BEGIN:VCALENDAR
VERSION:2.0
PRODID:-//eventon.com NONSGML v1.0//EN
CALSCALE:GREGORIAN
METHOD:PUBLISH
BEGIN:VEVENT
UID:69eaa8b1e4a7d
DTSTAMP:20260423T231809Z
DTSTART:20261202T080000Z
DTEND:20261202T225900Z
LOCATION:Hofmattschulhaus Tenniken 4456 Tenniken
SUMMARY:Trauercafé
DESCRIPTION:\nhttps://refdiegteneptingen.ch/events/trauercafe-11/
URL:https://refdiegteneptingen.ch/events/trauercafe-11/
END:VEVENT
END:VCALENDAR